BEGIN:VCALENDAR
VERSION:2.0
PRODID:-//FastLane Racing School - ECPv6.14.2//NONSGML v1.0//EN
CALSCALE:GREGORIAN
METHOD:PUBLISH
X-ORIGINAL-URL:https://raceschool.com
X-WR-CALDESC:Events for FastLane Racing School
REFRESH-INTERVAL;VALUE=DURATION:PT1H
X-Robots-Tag:noindex
X-PUBLISHED-TTL:PT1H
BEGIN:VTIMEZONE
TZID:America/Los_Angeles
BEGIN:DAYLIGHT
TZOFFSETFROM:-0800
TZOFFSETTO:-0700
TZNAME:PDT
DTSTART:20220313T100000
END:DAYLIGHT
BEGIN:STANDARD
TZOFFSETFROM:-0700
TZOFFSETTO:-0800
TZNAME:PST
DTSTART:20221106T090000
END:STANDARD
BEGIN:DAYLIGHT
TZOFFSETFROM:-0800
TZOFFSETTO:-0700
TZNAME:PDT
DTSTART:20230312T100000
END:DAYLIGHT
BEGIN:STANDARD
TZOFFSETFROM:-0700
TZOFFSETTO:-0800
TZNAME:PST
DTSTART:20231105T090000
END:STANDARD
END:VTIMEZONE
BEGIN:VEVENT
DTSTART;TZID=America/Los_Angeles:20231003T080000
DTEND;TZID=America/Los_Angeles:20231003T140000
DTSTAMP:20260420T075852
CREATED:20221214T001416Z
LAST-MODIFIED:20221220T201452Z
UID:10000046-1696320000-1696341600@raceschool.com
SUMMARY:Two-Day High Performance @ WSIR
DESCRIPTION:Satisfy your need for speed with FastLane Raceschool’s High Performance Driving Courses! \nOur High-Performance Driving Courses are our most popular course! \nStarting with a classroom session\, car control\, track review\, and plenty of time behind the wheel\, you’ll gradually get comfortable on the track and go from lead follow to open passing in the same day! Our courses allow you to drive your own sports car\, race-prepared car or you can rent one of our race-prepared FastLane cars.*  \nCombine the basic vehicle dynamics knowledge you learned on Day One with continual lapping sessions\, more personalized attention & additional track time on Day Two.  Our professional instructors will be watching and teaching you throughout the course and helping you apply the techniques you’ve learned in a safe and controlled environment. Once you complete this course\, you’ll graduate as a much more accomplished driver as well as become eligible to participate in our high-performance track day events and experiences.   \n*Please note that all of our race-prepared vehicles are manual shift.  Additional pricing may apply for non race-prepared street cars. \nLearn More…
URL:https://raceschool.com/events/two-day-high-performance-wsir-8/
LOCATION:Streets Of Willow Springs\, 70th St W\, Rosamund\, CA\, 93560\, United States
ATTACH;FMTTYPE=image/jpeg:https://raceschool.com/wp-content/uploads/drive-a-formula-car_radical-sr1.jpg
END:VEVENT
BEGIN:VEVENT
DTSTART;TZID=America/Los_Angeles:20231003T080000
DTEND;TZID=America/Los_Angeles:20231003T140000
DTSTAMP:20260420T075852
CREATED:20221203T000659Z
LAST-MODIFIED:20230607T161417Z
UID:10000044-1696320000-1696341600@raceschool.com
SUMMARY:One-Day High Performance @ WSIR
DESCRIPTION:Satisfy your need for speed with FastLane Raceschool’s High Performance Driving Courses! \nOur High-Performance Driving Courses are our most popular course! \nStarting with a classroom session\, car control\, track review\, and plenty of time behind the wheel\, you’ll gradually get comfortable on the track and go from lead follow to open passing in the same day! Our courses allow you to drive your own sports car\, race-prepared car or you can rent one of our race-prepared FastLane cars.*  \nCombine the basic vehicle dynamics knowledge you learned on Day One with continual lapping sessions\, more personalized attention & additional track time on Day Two.  Our professional instructors will be watching and teaching you throughout the course and helping you apply the techniques you’ve learned in a safe and controlled environment. Once you complete this course\, you’ll graduate as a much more accomplished driver as well as become eligible to participate in our high-performance track day events and experiences.   \n*Please note that all of our race-prepared vehicles are manual shift. Additional pricing may apply for non race-prepared street cars. \nLearn More…
URL:https://raceschool.com/events/one-day-high-performance-wsir-7/
LOCATION:Streets Of Willow Springs\, 70th St W\, Rosamund\, CA\, 93560\, United States
ORGANIZER;CN="Fast Lane Race School":MAILTO:info@raceschool.com
END:VEVENT
BEGIN:VEVENT
DTSTART;TZID=America/Los_Angeles:20230522T080000
DTEND;TZID=America/Los_Angeles:20230522T140000
DTSTAMP:20260420T075852
CREATED:20221220T203620Z
LAST-MODIFIED:20221220T210501Z
UID:10000056-1684742400-1684764000@raceschool.com
SUMMARY:One-Day High Performance @ WSIR
DESCRIPTION:Satisfy your need for speed with FastLane Raceschool’s High Performance Driving Courses! \nOur High-Performance Driving Courses are our most popular course! \nStarting with a classroom session\, car control\, track review\, and plenty of time behind the wheel\, you’ll gradually get comfortable on the track and go from lead follow to open passing in the same day! Our courses allow you to drive your own sports car\, race-prepared car or you can rent one of our race-prepared FastLane cars.*  \nCombine the basic vehicle dynamics knowledge you learned on Day One with continual lapping sessions\, more personalized attention & additional track time on Day Two.  Our professional instructors will be watching and teaching you throughout the course and helping you apply the techniques you’ve learned in a safe and controlled environment. Once you complete this course\, you’ll graduate as a much more accomplished driver as well as become eligible to participate in our high-performance track day events and experiences.   \n*Please note that all of our race-prepared vehicles are manual shift. Additional pricing may apply for non race-prepared street cars. \nLearn More…
URL:https://raceschool.com/events/one-day-high-performance-wsir-4/
LOCATION:Streets Of Willow Springs\, 70th St W\, Rosamund\, CA\, 93560\, United States
ORGANIZER;CN="Fast Lane Race School":MAILTO:info@raceschool.com
END:VEVENT
BEGIN:VEVENT
DTSTART;TZID=America/Los_Angeles:20230522T080000
DTEND;TZID=America/Los_Angeles:20230522T140000
DTSTAMP:20260420T075852
CREATED:20221203T002054Z
LAST-MODIFIED:20221220T201158Z
UID:10000049-1684742400-1684764000@raceschool.com
SUMMARY:Two-Day High Performance @ WSIR
DESCRIPTION:Satisfy your need for speed with FastLane Raceschool’s High Performance Driving Courses! \nOur High-Performance Driving Courses are our most popular course! \nStarting with a classroom session\, car control\, track review\, and plenty of time behind the wheel\, you’ll gradually get comfortable on the track and go from lead follow to open passing in the same day! Our courses allow you to drive your own sports car\, race-prepared car or you can rent one of our race-prepared FastLane cars.*  \nCombine the basic vehicle dynamics knowledge you learned on Day One with continual lapping sessions\, more personalized attention & additional track time on Day Two.  Our professional instructors will be watching and teaching you throughout the course and helping you apply the techniques you’ve learned in a safe and controlled environment. Once you complete this course\, you’ll graduate as a much more accomplished driver as well as become eligible to participate in our high-performance track day events and experiences.   \n*Please note that all of our race-prepared vehicles are manual shift.  Additional pricing may apply for non race-prepared street cars. \nLearn More…
URL:https://raceschool.com/events/two-day-high-performance-wsir-7/
LOCATION:Streets Of Willow Springs\, 70th St W\, Rosamund\, CA\, 93560\, United States
ATTACH;FMTTYPE=image/jpeg:https://raceschool.com/wp-content/uploads/drive-a-formula-car_radical-sr1.jpg
END:VEVENT
BEGIN:VEVENT
DTSTART;TZID=America/Los_Angeles:20230403T080000
DTEND;TZID=America/Los_Angeles:20230403T140000
DTSTAMP:20260420T075852
CREATED:20221203T002000Z
LAST-MODIFIED:20221220T190108Z
UID:10000048-1680508800-1680530400@raceschool.com
SUMMARY:Two-Day High Performance @ WSIR
DESCRIPTION:Satisfy your need for speed with FastLane Raceschool’s High Performance Driving Courses! \nOur High-Performance Driving Courses are our most popular course! \nStarting with a classroom session\, car control\, track review\, and plenty of time behind the wheel\, you’ll gradually get comfortable on the track and go from lead follow to open passing in the same day! Our courses allow you to drive your own sports car\, race-prepared car or you can rent one of our race-prepared FastLane cars.*  \nCombine the basic vehicle dynamics knowledge you learned on Day One with continual lapping sessions\, more personalized attention & additional track time on Day Two.  Our professional instructors will be watching and teaching you throughout the course and helping you apply the techniques you’ve learned in a safe and controlled environment. Once you complete this course\, you’ll graduate as a much more accomplished driver as well as become eligible to participate in our high-performance track day events and experiences.   \n*Please note that all of our race-prepared vehicles are manual shift.  Additional pricing may apply for non race-prepared street cars. \nLearn More…
URL:https://raceschool.com/events/two-day-high-performance-wsir-6/
LOCATION:Streets Of Willow Springs\, 70th St W\, Rosamund\, CA\, 93560\, United States
ATTACH;FMTTYPE=image/jpeg:https://raceschool.com/wp-content/uploads/drive-a-formula-car_radical-sr1.jpg
END:VEVENT
BEGIN:VEVENT
DTSTART;TZID=America/Los_Angeles:20230403T080000
DTEND;TZID=America/Los_Angeles:20230403T140000
DTSTAMP:20260420T075852
CREATED:20221203T000329Z
LAST-MODIFIED:20221220T202454Z
UID:10000040-1680508800-1680530400@raceschool.com
SUMMARY:One-Day High Performance @ WSIR
DESCRIPTION:Satisfy your need for speed with FastLane Raceschool’s High Performance Driving Courses! \nOur High-Performance Driving Courses are our most popular course! \nStarting with a classroom session\, car control\, track review\, and plenty of time behind the wheel\, you’ll gradually get comfortable on the track and go from lead follow to open passing in the same day! Our courses allow you to drive your own sports car\, race-prepared car or you can rent one of our race-prepared FastLane cars.*  \nCombine the basic vehicle dynamics knowledge you learned on Day One with continual lapping sessions\, more personalized attention & additional track time on Day Two.  Our professional instructors will be watching and teaching you throughout the course and helping you apply the techniques you’ve learned in a safe and controlled environment. Once you complete this course\, you’ll graduate as a much more accomplished driver as well as become eligible to participate in our high-performance track day events and experiences.   \n*Please note that all of our race-prepared vehicles are manual shift. Additional pricing may apply for non race-prepared street cars. \nLearn More…
URL:https://raceschool.com/events/one-day-high-performance-wsir-5/
LOCATION:Streets Of Willow Springs\, 70th St W\, Rosamund\, CA\, 93560\, United States
ORGANIZER;CN="Fast Lane Race School":MAILTO:info@raceschool.com
END:VEVENT
BEGIN:VEVENT
DTSTART;TZID=America/Los_Angeles:20230314T080000
DTEND;TZID=America/Los_Angeles:20230314T140000
DTSTAMP:20260420T075852
CREATED:20221203T001907Z
LAST-MODIFIED:20230215T183642Z
UID:10000047-1678780800-1678802400@raceschool.com
SUMMARY:Two-Day High Performance @ WSIR
DESCRIPTION:Satisfy your need for speed with FastLane Raceschool’s High Performance Driving Courses! \nOur High-Performance Driving Courses are our most popular course! \nStarting with a classroom session\, car control\, track review\, and plenty of time behind the wheel\, you’ll gradually get comfortable on the track and go from lead follow to open passing in the same day! Our courses allow you to drive your own sports car\, race-prepared car or you can rent one of our race-prepared FastLane cars.*  \nCombine the basic vehicle dynamics knowledge you learned on Day One with continual lapping sessions\, more personalized attention & additional track time on Day Two.  Our professional instructors will be watching and teaching you throughout the course and helping you apply the techniques you’ve learned in a safe and controlled environment. Once you complete this course\, you’ll graduate as a much more accomplished driver as well as become eligible to participate in our high-performance track day events and experiences.   \n*Please note that all of our race-prepared vehicles are manual shift.  Additional pricing may apply for non race-prepared street cars. \nLearn More…
URL:https://raceschool.com/events/two-day-high-performance-wsir-5/
LOCATION:Streets Of Willow Springs\, 70th St W\, Rosamund\, CA\, 93560\, United States
ATTACH;FMTTYPE=image/jpeg:https://raceschool.com/wp-content/uploads/drive-a-formula-car_radical-sr1.jpg
END:VEVENT
BEGIN:VEVENT
DTSTART;TZID=America/Los_Angeles:20230314T080000
DTEND;TZID=America/Los_Angeles:20230314T140000
DTSTAMP:20260420T075852
CREATED:20221203T000301Z
LAST-MODIFIED:20230215T183304Z
UID:10000039-1678780800-1678802400@raceschool.com
SUMMARY:One-Day High Performance @ WSIR
DESCRIPTION:Satisfy your need for speed with FastLane Racing School’s High Performance Driving Courses! \nOur High-Performance Driving Courses are our most popular course! \nStarting with a classroom session\, car control\, track review\, and plenty of time behind the wheel\, you’ll gradually get comfortable on the track and go from lead follow to open passing in the same day! Our courses allow you to drive your own sports car\, race-prepared car or you can rent one of our race-prepared FastLane cars.*  \nCombine the basic vehicle dynamics knowledge you learned on Day One with continual lapping sessions\, more personalized attention & additional track time on Day Two.  Our professional instructors will be watching and teaching you throughout the course and helping you apply the techniques you’ve learned in a safe and controlled environment. Once you complete this course\, you’ll graduate as a much more accomplished driver as well as become eligible to participate in our high-performance track day events and experiences.   \n*Please note that all of our race-prepared vehicles are manual shift. Additional pricing may apply for non race-prepared street cars. \nLearn More…
URL:https://raceschool.com/events/https-www-trackrabbit-com-event-details-10007359-one-day-high-performance-wsir-2023-03-14/
LOCATION:Streets Of Willow Springs\, 70th St W\, Rosamund\, CA\, 93560\, United States
ORGANIZER;CN="Fast Lane Race School":MAILTO:info@raceschool.com
END:VEVENT
BEGIN:VEVENT
DTSTART;TZID=America/Los_Angeles:20221218T080000
DTEND;TZID=America/Los_Angeles:20221218T140000
DTSTAMP:20260420T075852
CREATED:20220927T125935Z
LAST-MODIFIED:20221214T000743Z
UID:10000028-1671350400-1671372000@raceschool.com
SUMMARY:One-Day High Performance @ WSIR
DESCRIPTION:Satisfy your need for speed with FastLane Raceschool’s High Performance Driving Courses! \nOur High-Performance Driving Courses are our most popular course! \nStarting with a classroom session\, car control\, track review\, and plenty of time behind the wheel\, you’ll gradually get comfortable on the track and go from lead follow to open passing in the same day! Our courses allow you to drive your own sports car\, race-prepared car or you can rent one of our race-prepared FastLane cars.*  \nCombine the basic vehicle dynamics knowledge you learned on Day One with continual lapping sessions\, more personalized attention & additional track time on Day Two.  Our professional instructors will be watching and teaching you throughout the course and helping you apply the techniques you’ve learned in a safe and controlled environment. Once you complete this course\, you’ll graduate as a much more accomplished driver as well as become eligible to participate in our high-performance track day events and experiences.   \n*Please note that all of our race-prepared vehicles are manual shift. Additional pricing may apply for non race-prepared street cars. \nLearn More…
URL:https://raceschool.com/events/one-day-high-performance-wsir-3/
LOCATION:Streets Of Willow Springs\, 70th St W\, Rosamund\, CA\, 93560\, United States
ORGANIZER;CN="Fast Lane Race School":MAILTO:info@raceschool.com
END:VEVENT
BEGIN:VEVENT
DTSTART;TZID=America/Los_Angeles:20221218T080000
DTEND;TZID=America/Los_Angeles:20221218T140000
DTSTAMP:20260420T075852
CREATED:20220913T051921Z
LAST-MODIFIED:20221214T000608Z
UID:10000017-1671350400-1671372000@raceschool.com
SUMMARY:Two-Day High Performance @ WSIR
DESCRIPTION:Satisfy your need for speed with FastLane Raceschool’s High Performance Driving Courses! \nOur High-Performance Driving Courses are our most popular course! \nStarting with a classroom session\, car control\, track review\, and plenty of time behind the wheel\, you’ll gradually get comfortable on the track and go from lead follow to open passing in the same day! Our courses allow you to drive your own sports car\, race-prepared car or you can rent one of our race-prepared FastLane cars.*  \nCombine the basic vehicle dynamics knowledge you learned on Day One with continual lapping sessions\, more personalized attention & additional track time on Day Two.  Our professional instructors will be watching and teaching you throughout the course and helping you apply the techniques you’ve learned in a safe and controlled environment. Once you complete this course\, you’ll graduate as a much more accomplished driver as well as become eligible to participate in our high-performance track day events and experiences.   \n*Please note that all of our race-prepared vehicles are manual shift.  Additional pricing may apply for non race-prepared street cars. \nLearn More…
URL:https://raceschool.com/events/two-day-high-performance-wsir-3/
LOCATION:Streets Of Willow Springs\, 70th St W\, Rosamund\, CA\, 93560\, United States
ATTACH;FMTTYPE=image/jpeg:https://raceschool.com/wp-content/uploads/drive-a-formula-car_radical-sr1.jpg
END:VEVENT
BEGIN:VEVENT
DTSTART;TZID=America/Los_Angeles:20221106T080000
DTEND;TZID=America/Los_Angeles:20221107T140000
DTSTAMP:20260420T075852
CREATED:20220913T045328Z
LAST-MODIFIED:20221121T222952Z
UID:10000016-1667721600-1667829600@raceschool.com
SUMMARY:Two-Day High Performance @ WSIR
DESCRIPTION:Satisfy your need for speed with FastLane Raceschool’s High Performance Driving Courses! \nOur High-Performance Driving Courses are our most popular course! \nStarting with a classroom session\, car control\, track review\, and plenty of time behind the wheel\, you’ll gradually get comfortable on the track and go from lead follow to open passing in the same day! Our courses allow you to drive your own sports car\, race-prepared car or you can rent one of our race-prepared FastLane cars.*  \nCombine the basic vehicle dynamics knowledge you learned on Day One with continual lapping sessions\, more personalized attention & additional track time on Day Two.  Our professional instructors will be watching and teaching you throughout the course and helping you apply the techniques you’ve learned in a safe and controlled environment. Once you complete this course\, you’ll graduate as a much more accomplished driver as well as become eligible to participate in our high-performance track day events and experiences.   \n*Please note that all of our race-prepared vehicles are manual shift.  Additional pricing may apply for non race-prepared street cars. \nLearn More…
URL:https://raceschool.com/events/two-day-high-performance-wsir-2/
LOCATION:Streets Of Willow Springs\, 70th St W\, Rosamund\, CA\, 93560\, United States
ATTACH;FMTTYPE=image/jpeg:https://raceschool.com/wp-content/uploads/drive-a-formula-car_radical-sr1.jpg
END:VEVENT
BEGIN:VEVENT
DTSTART;TZID=America/Los_Angeles:20221106T080000
DTEND;TZID=America/Los_Angeles:20221106T140000
DTSTAMP:20260420T075852
CREATED:20220913T153021Z
LAST-MODIFIED:20221121T222928Z
UID:10000019-1667721600-1667743200@raceschool.com
SUMMARY:One-Day High Performance @ WSIR
DESCRIPTION:Satisfy your need for speed with FastLane Raceschool’s High Performance Driving Courses! \nOur High-Performance Driving Courses are our most popular course! \nStarting with a classroom session\, car control\, track review\, and plenty of time behind the wheel\, you’ll gradually get comfortable on the track and go from lead follow to open passing in the same day! Our courses allow you to drive your own sports car\, race-prepared car or you can rent one of our race-prepared FastLane cars.*  \nCombine the basic vehicle dynamics knowledge you learned on Day One with continual lapping sessions\, more personalized attention & additional track time on Day Two.  Our professional instructors will be watching and teaching you throughout the course and helping you apply the techniques you’ve learned in a safe and controlled environment. Once you complete this course\, you’ll graduate as a much more accomplished driver as well as become eligible to participate in our high-performance track day events and experiences.   \n*Please note that all of our race-prepared vehicles are manual shift. Additional pricing may apply for non race-prepared street cars. \nLearn More…
URL:https://raceschool.com/events/one-day-high-performance-wsir-2/
LOCATION:Streets Of Willow Springs\, 70th St W\, Rosamund\, CA\, 93560\, United States
ORGANIZER;CN="Fast Lane Race School":MAILTO:info@raceschool.com
END:VEVENT
BEGIN:VEVENT
DTSTART;TZID=America/Los_Angeles:20221003T080000
DTEND;TZID=America/Los_Angeles:20221004T140000
DTSTAMP:20260420T075852
CREATED:20220902T220039Z
LAST-MODIFIED:20221121T222949Z
UID:10000023-1664784000-1664892000@raceschool.com
SUMMARY:Two-Day High Performance @ WSIR
DESCRIPTION:Satisfy your need for speed with FastLane Raceschool’s High Performance Driving Courses! \nOur High-Performance Driving Courses are our most popular course! \nStarting with a classroom session\, car control\, track review\, and plenty of time behind the wheel\, you’ll gradually get comfortable on the track and go from lead follow to open passing in the same day! Our courses allow you to drive your own sports car\, race-prepared car or you can rent one of our race-prepared FastLane cars.*  \nCombine the basic vehicle dynamics knowledge you learned on Day One with continual lapping sessions\, more personalized attention & additional track time on Day Two.  Our professional instructors will be watching and teaching you throughout the course and helping you apply the techniques you’ve learned in a safe and controlled environment. Once you complete this course\, you’ll graduate as a much more accomplished driver as well as become eligible to participate in our high-performance track day events and experiences.   \n*Please note that all of our race-prepared vehicles are manual shift.  Additional pricing may apply for non race-prepared street cars. \nLearn More…
URL:https://raceschool.com/events/two-day-high-performance-wsir/
LOCATION:Streets Of Willow Springs\, 70th St W\, Rosamund\, CA\, 93560\, United States
ATTACH;FMTTYPE=image/jpeg:https://raceschool.com/wp-content/uploads/drive-a-formula-car_radical-sr1.jpg
END:VEVENT
BEGIN:VEVENT
DTSTART;TZID=America/Los_Angeles:20221003T080000
DTEND;TZID=America/Los_Angeles:20221003T140000
DTSTAMP:20260420T075852
CREATED:20220927T125745Z
LAST-MODIFIED:20221121T222937Z
UID:10000027-1664784000-1664805600@raceschool.com
SUMMARY:One-Day High Performance @ WSIR
DESCRIPTION:Satisfy your need for speed with FastLane Raceschool’s High Performance Driving Courses! \nOur High-Performance Driving Courses are our most popular course! \nStarting with a classroom session\, car control\, track review\, and plenty of time behind the wheel\, you’ll gradually get comfortable on the track and go from lead follow to open passing in the same day! Our courses allow you to drive your own sports car\, race-prepared car or you can rent one of our race-prepared FastLane cars.*  \nCombine the basic vehicle dynamics knowledge you learned on Day One with continual lapping sessions\, more personalized attention & additional track time on Day Two.  Our professional instructors will be watching and teaching you throughout the course and helping you apply the techniques you’ve learned in a safe and controlled environment. Once you complete this course\, you’ll graduate as a much more accomplished driver as well as become eligible to participate in our high-performance track day events and experiences.   \n*Please note that all of our race-prepared vehicles are manual shift. Additional pricing may apply for non race-prepared street cars. \nLearn More…
URL:https://raceschool.com/events/one-day-high-performance-wsir/
LOCATION:Streets Of Willow Springs\, 70th St W\, Rosamund\, CA\, 93560\, United States
ORGANIZER;CN="Fast Lane Race School":MAILTO:info@raceschool.com
END:VEVENT
END:VCALENDAR